BEGIN:VCALENDAR
VERSION:2.0
PRODID:-//Mi Kocina Food Truck - ECPv6.5.0.1//NONSGML v1.0//EN
CALSCALE:GREGORIAN
METHOD:PUBLISH
X-WR-CALNAME:Mi Kocina Food Truck
X-ORIGINAL-URL:https://mikocinalbk.com
X-WR-CALDESC:Events for Mi Kocina Food Truck
REFRESH-INTERVAL;VALUE=DURATION:PT1H
X-Robots-Tag:noindex
X-PUBLISHED-TTL:PT1H
BEGIN:VTIMEZONE
TZID:UTC
BEGIN:STANDARD
TZOFFSETFROM:+0000
TZOFFSETTO:+0000
TZNAME:UTC
DTSTART:20260101T000000
END:STANDARD
END:VTIMEZONE
BEGIN:VEVENT
DTSTART;TZID=UTC:20260429T073000
DTEND;TZID=UTC:20260429T130000
DTSTAMP:20260425T135920
CREATED:20260414T215158Z
LAST-MODIFIED:20260414T215158Z
UID:3049-1777447800-1777467600@mikocinalbk.com
SUMMARY:UMC B&TC
DESCRIPTION:
URL:https://mikocinalbk.com/event/umc-btc-200/
LOCATION:UMC Business and Technology\, 309 N. Slide Rd\, Lubbock\, TX\, 79414\, United States
END:VEVENT
BEGIN:VEVENT
DTSTART;TZID=UTC:20260430T073000
DTEND;TZID=UTC:20260430T130000
DTSTAMP:20260425T135920
CREATED:20260414T215257Z
LAST-MODIFIED:20260414T215257Z
UID:3051-1777534200-1777554000@mikocinalbk.com
SUMMARY:Prosperity Bank
DESCRIPTION:
URL:https://mikocinalbk.com/event/prosperity-bank-188/
LOCATION:Prosperity Bank\, 1401 Ave. Q\, Lubbock\, TX\, 79401\, United States
END:VEVENT
BEGIN:VEVENT
DTSTART;TZID=UTC:20260501T170000
DTEND;TZID=UTC:20260501T210000
DTSTAMP:20260425T135920
CREATED:20260423T215227Z
LAST-MODIFIED:20260423T215227Z
UID:3061-1777654800-1777669200@mikocinalbk.com
SUMMARY:FFAT
DESCRIPTION:
URL:https://mikocinalbk.com/event/ffat-28/
LOCATION:First Friday Art Trail\, 511 Ave J.\, Lubbock\, TX\, 79401\, United States
END:VEVENT
BEGIN:VEVENT
DTSTART;VALUE=DATE:20260502
DTEND;VALUE=DATE:20260503
DTSTAMP:20260425T135920
CREATED:20260424T190146Z
LAST-MODIFIED:20260424T190146Z
UID:3063-1777680000-1777766399@mikocinalbk.com
SUMMARY:Homebase Event
DESCRIPTION:
URL:https://mikocinalbk.com/event/homebase-event/
LOCATION:Homebase\, 3791 50th St.\, Lubbock\, TX\, 79413
END:VEVENT
BEGIN:VEVENT
DTSTART;TZID=UTC:20260506T073000
DTEND;TZID=UTC:20260506T130000
DTSTAMP:20260425T135920
CREATED:20260424T190244Z
LAST-MODIFIED:20260424T190244Z
UID:3066-1778052600-1778072400@mikocinalbk.com
SUMMARY:UMC B&TC
DESCRIPTION:
URL:https://mikocinalbk.com/event/umc-btc-201/
LOCATION:UMC Business and Technology\, 309 N. Slide Rd\, Lubbock\, TX\, 79414\, United States
END:VEVENT
BEGIN:VEVENT
DTSTART;TZID=UTC:20260507T073000
DTEND;TZID=UTC:20260507T130000
DTSTAMP:20260425T135920
CREATED:20260424T190340Z
LAST-MODIFIED:20260424T190340Z
UID:3068-1778139000-1778158800@mikocinalbk.com
SUMMARY:Prosperity Bank
DESCRIPTION:
URL:https://mikocinalbk.com/event/prosperity-bank-189/
LOCATION:Prosperity Bank\, 1401 Ave. Q\, Lubbock\, TX\, 79401\, United States
END:VEVENT
BEGIN:VEVENT
DTSTART;TZID=UTC:20260508T073000
DTEND;TZID=UTC:20260508T110000
DTSTAMP:20260425T135920
CREATED:20260424T190436Z
LAST-MODIFIED:20260424T190436Z
UID:3070-1778225400-1778238000@mikocinalbk.com
SUMMARY:PFS
DESCRIPTION:
URL:https://mikocinalbk.com/event/pfs-52/
LOCATION:Professional Flooring Supply\, 4319 Huron\, lubbock\, TX\, 79407\, United States
END:VEVENT
END:VCALENDAR